BEGIN:VCALENDAR
VERSION:2.0
PRODID:-//eventon.com NONSGML v1.0//EN
CALSCALE:GREGORIAN
METHOD:PUBLISH
BEGIN:VEVENT
UID:69e4d364901c4
DTSTAMP:20260419T130644Z
DTSTART:20230817T230000Z
DTEND:20230817T230000Z
LOCATION:The Stone Pony 913 Ocean Avenue Asbury Park\,  NJ 07712
SUMMARY:Umphrey's McGee
DESCRIPTION:An Evening with Umphrey&#8217;s McGee 25th Anniversary Tour In 
 the 25 years since eclectic improv-rock band Umphrey’s McGee formed\,  th
 eir sound has been an amalgamation of genres\,  moods\,  and tempos\,  effo
 rtlessly flowing from one feeling to the next throughout an album or concer
 t—or sometimes within a singular song. But with[..]\nhttps://apboardwalk.
 com/news/events/umphreys-mcgee-2/
URL:https://apboardwalk.com/news/events/umphreys-mcgee-2/
END:VEVENT
END:VCALENDAR