BEGIN:VCALENDAR
VERSION:2.0
PRODID:-//eventon.com NONSGML v1.0//EN
CALSCALE:GREGORIAN
METHOD:PUBLISH
BEGIN:VEVENT
UID:69e8972a3a546
DTSTAMP:20260422T093850Z
DTSTART:20230604T000000Z
DTEND:20230604T000000Z
LOCATION:Wonder Bar 1213 Ocean Avenue Asbury Park\,  NJ 07712
SUMMARY:Christine Martucci & the Band of Love
DESCRIPTION:Christine Martucci and the Band of Love Annual Pridefest Doors 
 8:00pm Show 8:30pm 21 and up admitted\nhttps://apboardwalk.com/news/events/
 christine-martucci-the-band-of-love/
URL:https://apboardwalk.com/news/events/christine-martucci-the-band-of-love/
END:VEVENT
END:VCALENDAR