BEGIN:VCALENDAR
VERSION:2.0
PRODID:-//eventon.com NONSGML v1.0//EN
CALSCALE:GREGORIAN
METHOD:PUBLISH
BEGIN:VEVENT
UID:69e7435374f78
DTSTAMP:20260421T092851Z
DTSTART:20230226T020000Z
DTEND:20230226T020000Z
LOCATION:The Stone Pony 913 Ocean Avenue Asbury Park\,  NJ 07712
SUMMARY:Emo Night Brooklyn
DESCRIPTION:Emo Night Brooklyn 21+ admitted Doors at 9 pm\nhttps://apboardw
 alk.com/news/events/emo-night-brooklyn-7/
URL:https://apboardwalk.com/news/events/emo-night-brooklyn-7/
END:VEVENT
END:VCALENDAR