BEGIN:VCALENDAR
VERSION:2.0
PRODID:-//eventon.com NONSGML v1.0//EN
CALSCALE:GREGORIAN
METHOD:PUBLISH
BEGIN:VEVENT
UID:69e764d466cc3
DTSTAMP:20260421T115148Z
DTSTART:20230425T230000Z
DTEND:20230425T230000Z
LOCATION:The Stone Pony 913 Ocean Avenue Asbury Park\,  NJ 07712
SUMMARY:Father John Misty
DESCRIPTION:Father John Misty LIVE! On Tour With Loren Kramar Father John M
 isty is announcing new\,  headlining shows for 2023 in support of his accla
 imed fifth album Chloë and The Next 20th Century. Chloë and The Next 20th
  Century earned Father John Misty’s placement on “Best Albums of 2022
  lists from[..]\nhttps://apboardwalk.com/news/events/father-john-misty/
URL:https://apboardwalk.com/news/events/father-john-misty/
END:VEVENT
END:VCALENDAR