BEGIN:VCALENDAR
VERSION:2.0
PRODID:-//eventon.com NONSGML v1.0//EN
CALSCALE:GREGORIAN
METHOD:PUBLISH
BEGIN:VEVENT
UID:69e99918d4d73
DTSTAMP:20260423T035920Z
DTSTART:20220916T233000Z
DTEND:20220916T233000Z
LOCATION:Wonder Bar 1213 Ocean Avenue Asbury Park\,  NJ 07712
SUMMARY:Gods\,  Yawn Mower\,  Sunshine Spazz
DESCRIPTION:Sea.Hear.Now presents There Goes the Neighborhood featuring God
 s Yawn Mower Sunshine Spazz with special guests Pamela Flores Rachel Ana Do
 bken Renee Maskin 21+ admitted\nhttps://apboardwalk.com/news/events/gods-ya
 wn-mower-sunshine-spazz/
URL:https://apboardwalk.com/news/events/gods-yawn-mower-sunshine-spazz/
END:VEVENT
END:VCALENDAR