BEGIN:VCALENDAR
VERSION:2.0
PRODID:-//eventon.com NONSGML v1.0//EN
CALSCALE:GREGORIAN
METHOD:PUBLISH
BEGIN:VEVENT
UID:69e8fe64f149f
DTSTAMP:20260422T165916Z
DTSTART:20221127T023000Z
DTEND:20221127T023000Z
LOCATION:Langosta Lounge 1000 Ocean Ave\,  Asbury Park\,  NJ 07712
SUMMARY:Ocean Avenue Stompers
DESCRIPTION:Funksgiving with the Ocean Avenue Stompers Ian Gray established
  the Ocean Avenue Stompers in 2016 with the intent of bringing together the
  baddest horn players he&#8217;d worked with over the years. &#8220;I spent
  my 21st birthday in NOLA\,  and came back with an itch to bring that vibe 
 and sound[..]\nhttps://apboardwalk.com/news/events/ocean-avenue-stompers-2/
URL:https://apboardwalk.com/news/events/ocean-avenue-stompers-2/
END:VEVENT
END:VCALENDAR