BEGIN:VCALENDAR
VERSION:2.0
PRODID:-//eventon.com NONSGML v1.0//EN
CALSCALE:GREGORIAN
METHOD:PUBLISH
BEGIN:VEVENT
UID:69e5ffc53f85d
DTSTAMP:20260420T102821Z
DTSTART:20220731T170000Z
DTEND:20220731T200000Z
LOCATION:Langosta Lounge 1000 Ocean Ave\,  Asbury Park\,  NJ 07712
SUMMARY:The Chase McShea
DESCRIPTION:The Chase McShea\nhttps://apboardwalk.com/news/events/the-chase
 -mcshea/
URL:https://apboardwalk.com/news/events/the-chase-mcshea/
END:VEVENT
END:VCALENDAR