BEGIN:VCALENDAR
VERSION:2.0
PRODID:-//eventon.com NONSGML v1.0//EN
CALSCALE:GREGORIAN
METHOD:PUBLISH
BEGIN:VEVENT
UID:69e691666e3ca
DTSTAMP:20260420T204942Z
DTSTART:20221001T230000Z
DTEND:20221001T230000Z
LOCATION:Wonder Bar 1213 Ocean Avenue Asbury Park\,  NJ 07712
SUMMARY:Promised Land
DESCRIPTION:Promised Land Ultimate Jersey Shore Tribute Join us for a rocki
 ng night of classic Jersey Shore music loaded with hits and fan favorites f
 rom Southside\,  Bon Jovi\,  Bruce\,  Cafferty\,  Bonds and more! Promised 
 Land will play a two-set show starting at 8 pm that will take you back to t
 he[..]\nhttps://apboardwalk.com/news/events/the-promised-land-2/
URL:https://apboardwalk.com/news/events/the-promised-land-2/
END:VEVENT
END:VCALENDAR