BEGIN:VCALENDAR
VERSION:2.0
PRODID:-//eventon.com NONSGML v1.0//EN
CALSCALE:GREGORIAN
METHOD:PUBLISH
BEGIN:VEVENT
UID:69e5de81e5b6b
DTSTAMP:20260420T080625Z
DTSTART:20220828T000000Z
DTEND:20220828T000000Z
LOCATION:Wonder Bar 1213 Ocean Avenue Asbury Park\,  NJ 07712
SUMMARY:Billy Hector's Birthday Bash
DESCRIPTION:BILLY HECTOR BIRTHDAY BASH FEATURING THE MIDNITE HORNS CD RELEA
 SE  PERSONS AGE 21+ ONLY ADMITTED BILLY HECTOR celebrates the release of h
 is new CD\,  “Rock Night in Jersey” and his 66th birthday at this year
 s WONDER BAR BIRTHDAY BASH featuring The MIDNITE HORNS\,  etc. on Saturda
 y\,  August 27th . Ghetto[..]\nhttps://apboardwalk.com/news/events/billy-he
 ctors-birthday-bash/
URL:https://apboardwalk.com/news/events/billy-hectors-birthday-bash/
END:VEVENT
END:VCALENDAR